BEGIN:VCALENDAR
VERSION:2.0
PRODID:-//Bungendore Showground - ECPv4.6.22.1//NONSGML v1.0//EN
CALSCALE:GREGORIAN
METHOD:PUBLISH
X-WR-CALNAME:Bungendore Showground
X-ORIGINAL-URL:http://www.bungendoreshowground.com.au
X-WR-CALDESC:Events for Bungendore Showground
BEGIN:VEVENT
DTSTART;VALUE=DATE:20190301
DTEND;VALUE=DATE:20190304
DTSTAMP:20190301T070106
CREATED:20181110T012237Z
LAST-MODIFIED:20181110T012237Z
UID:1078-1551398400-1551657599@www.bungendoreshowground.com.au
SUMMARY:BST Major Event
DESCRIPTION: \n
URL:http://www.bungendoreshowground.com.au/event/bst-major-event/
LOCATION:Mathews Lane off Bungendore Rd\, Bungendore\, NSW\, Australia
CATEGORIES:3 - Horse Yard Area
END:VEVENT
BEGIN:VEVENT
DTSTART;VALUE=DATE:20190310
DTEND;VALUE=DATE:20190311
DTSTAMP:20190301T070106
CREATED:20180518T222446Z
LAST-MODIFIED:20181113T042245Z
UID:947-1552176000-1552262399@www.bungendoreshowground.com.au
SUMMARY:Bungendore Pony Club
DESCRIPTION:
URL:http://www.bungendoreshowground.com.au/event/bungendore-pony-club-3-2019-01-13/2019-03-10/
LOCATION:Mathews Lane off Bungendore Rd\, Bungendore\, NSW\, Australia
GEO:-35.2420776;149.413094
X-APPLE-STRUCTURED-LOCATION;VALUE=URI;X-ADDRESS=Mathews Lane off Bungendore Rd Bungendore NSW Australia;X-APPLE-RADIUS=500;X-TITLE=Mathews Lane off Bungendore Rd:geo:149.413094,-35.2420776
CATEGORIES:13 - Horse Wash Bays,3 - Horse Yard Area,6 - Sand Arenas,7 - Grass Arena,8 - Main Arena,9 - Cross Country Course
END:VEVENT
BEGIN:VEVENT
DTSTART;VALUE=DATE:20190316
DTEND;VALUE=DATE:20190317
DTSTAMP:20190301T070106
CREATED:20180630T231938Z
LAST-MODIFIED:20180630T231938Z
UID:996-1552694400-1552780799@www.bungendoreshowground.com.au
SUMMARY:Tentative Wedding
DESCRIPTION:
URL:http://www.bungendoreshowground.com.au/event/tentative-wedding/
LOCATION:Mathews Lane off Bungendore Rd\, Bungendore\, NSW\, Australia
GEO:-35.2489484;149.4088723
X-APPLE-STRUCTURED-LOCATION;VALUE=URI;X-ADDRESS=Mathews Lane off Bungendore Rd Bungendore NSW Australia;X-APPLE-RADIUS=500;X-TITLE=Mathews Lane off Bungendore Rd:geo:149.4088723,-35.2489484
CATEGORIES:1 - Some Camping to be Organised With Caretakers,2A - Hall
ORGANIZER;CN="Jenna%20Crisp":MAILTO:jennacrisp@me.com
END:VEVENT
BEGIN:VEVENT
DTSTART;VALUE=DATE:20190317
DTEND;VALUE=DATE:20190318
DTSTAMP:20190301T070106
CREATED:20181223T214552Z
LAST-MODIFIED:20181223T215304Z
UID:1195-1552780800-1552867199@www.bungendoreshowground.com.au
SUMMARY:Dog Coursing - No Other Animal Events Possible
DESCRIPTION:
URL:http://www.bungendoreshowground.com.au/event/dog-coursing-no-other-animal-events-possible/2019-03-17/
LOCATION:Mathews Lane off Bungendore Rd\, Bungendore\, NSW\, Australia
CATEGORIES:14 - Cattle and Working Dog,2A - Hall,8 - Main Arena
END:VEVENT
BEGIN:VEVENT
DTSTART;VALUE=DATE:20190323
DTEND;VALUE=DATE:20190325
DTSTAMP:20190301T070106
CREATED:20171016T094834Z
LAST-MODIFIED:20171028T013849Z
UID:784-1553299200-1553471999@www.bungendoreshowground.com.au
SUMMARY:Lake George PoloX Carnival
DESCRIPTION:
URL:http://www.bungendoreshowground.com.au/event/lake-george-polox-carnival/2019-03-23/
LOCATION:NSW
CATEGORIES:Major Event
END:VEVENT
BEGIN:VEVENT
DTSTART;VALUE=DATE:20190330
DTEND;VALUE=DATE:20190331
DTSTAMP:20190301T070106
CREATED:20181110T004642Z
LAST-MODIFIED:20181206T021205Z
UID:1047-1553904000-1553990399@www.bungendoreshowground.com.au
SUMMARY:Bungendore Sheepdogs Tentative
DESCRIPTION:
URL:http://www.bungendoreshowground.com.au/event/bungendore-sheepdogs-2019-03-30/
LOCATION:Mathews Lane off Bungendore Rd\, Bungendore\, NSW\, Australia
CATEGORIES:14 - Cattle and Working Dog,8 - Main Arena
END:VEVENT
BEGIN:VEVENT
DTSTART;VALUE=DATE:20190330
DTEND;VALUE=DATE:20190331
DTSTAMP:20190301T070106
CREATED:20181110T011412Z
LAST-MODIFIED:20181110T011412Z
UID:1068-1553904000-1553990399@www.bungendoreshowground.com.au
SUMMARY:BRC Set Up For Major Event
DESCRIPTION: \n
URL:http://www.bungendoreshowground.com.au/event/brc-set-up-for-major-event/2019-03-30/
LOCATION:Mathews Lane off Bungendore Rd\, Bungendore\, NSW\, Australia
CATEGORIES:2A - Hall,3 - Horse Yard Area,6 - Sand Arenas
END:VEVENT
BEGIN:VEVENT
DTSTART;VALUE=DATE:20190331
DTEND;VALUE=DATE:20190401
DTSTAMP:20190301T070106
CREATED:20181110T012035Z
LAST-MODIFIED:20181110T012035Z
UID:1075-1553990400-1554076799@www.bungendoreshowground.com.au
SUMMARY:BRC Major Event Dressage
DESCRIPTION: \n
URL:http://www.bungendoreshowground.com.au/event/brc-major-event-dressage/
LOCATION:Mathews Lane off Bungendore Rd\, Bungendore\, NSW\, Australia
CATEGORIES:2A - Hall,3 - Horse Yard Area,6 - Sand Arenas,8 - Main Arena
END:VEVENT
END:VCALENDAR